BEGIN:VCALENDAR
VERSION:2.0
PRODID:-//Sophicity/Tribune/City of Bromley, KY
BEGIN:VEVENT
DTSTAMP:20260424T203455Z
UID:1d8753d0-9d34-4d58-95c7-628b68d1990e-3849
DTSTART:20190504T160000Z
DTEND:20190504T160000Z
CLASS:PUBLIC
SUMMARY:City Wide Yard Sale Rain Date
END:VEVENT
END:VCALENDAR
