BEGIN:VCALENDAR
VERSION:2.0
PRODID:-//Sophicity/Tribune/City of Bromley, KY
BEGIN:VEVENT
DTSTAMP:20260420T205402Z
UID:1d8753d0-9d34-4d58-95c7-628b68d1990e-3848
DTSTART:20190511T160000Z
DTEND:20190511T160000Z
CLASS:PUBLIC
SUMMARY:Large Trash Pick Up
END:VEVENT
END:VCALENDAR
