BEGIN:VCALENDAR
VERSION:2.0
PRODID:-//Sophicity/Tribune/City of Bromley, KY
BEGIN:VEVENT
DTSTAMP:20260419T193315Z
UID:1d8753d0-9d34-4d58-95c7-628b68d1990e-3832
DTSTART:20190703T220000Z
DTEND:20190703T220000Z
CLASS:PUBLIC
SUMMARY:City Council Meeting
END:VEVENT
END:VCALENDAR
