BEGIN:VCALENDAR
VERSION:2.0
PRODID:-//Sophicity/Tribune/City of Bromley, KY
BEGIN:VEVENT
DTSTAMP:20260420T035235Z
UID:1d8753d0-9d34-4d58-95c7-628b68d1990e-3684
DTSTART:20171017T230000Z
DTEND:20171018T000000Z
LOCATION:City Building 226 Boone St. Bromley, KY 41016 
CLASS:PUBLIC
SUMMARY:City Office Hours
END:VEVENT
END:VCALENDAR
