BEGIN:VCALENDAR
VERSION:2.0
PRODID:-//Sophicity/Tribune/City of Bromley, KY
BEGIN:VEVENT
DTSTAMP:20260420T002218Z
UID:1d8753d0-9d34-4d58-95c7-628b68d1990e-3639
DTSTART:20170802T220000Z
DTEND:20170802T223000Z
LOCATION:City Building 226 Boone St. Bromley, KY 41016 
CLASS:PUBLIC
SUMMARY:Code Enforcement Board
END:VEVENT
END:VCALENDAR
